BEGIN:VCALENDAR
VERSION:2.0
PRODID:-//Wayne County PA Republican Committee - ECPv6.15.20//NONSGML v1.0//EN
CALSCALE:GREGORIAN
METHOD:PUBLISH
X-ORIGINAL-URL:https://votewaynecountypagop.com
X-WR-CALDESC:Events for Wayne County PA Republican Committee
REFRESH-INTERVAL;VALUE=DURATION:PT1H
X-Robots-Tag:noindex
X-PUBLISHED-TTL:PT1H
BEGIN:VTIMEZONE
TZID:UTC
BEGIN:STANDARD
TZOFFSETFROM:+0000
TZOFFSETTO:+0000
TZNAME:UTC
DTSTART:20190101T000000
END:STANDARD
END:VTIMEZONE
BEGIN:VEVENT
DTSTART;TZID=UTC:20200427T180000
DTEND;TZID=UTC:20200427T200000
DTSTAMP:20260422T115634
CREATED:20200412T224825Z
LAST-MODIFIED:20200412T224923Z
UID:3190-1588010400-1588017600@votewaynecountypagop.com
SUMMARY:WWCRW April Monthly Meeting
DESCRIPTION:Wayne County Council of Republican Women Monthly Meeting for April.
URL:https://votewaynecountypagop.com/event/wwcrw-april-monthly-meeting/
LOCATION:Laurel’s Cafe\, 526 Main Street\, Honesdale\, PA\, 18431\, United States
CATEGORIES:Monthly Meeting
ORGANIZER;CN="Wayne County Council of Republican Women":MAILTO:dmvanhorn@yahoo.com
END:VEVENT
BEGIN:VEVENT
DTSTART;TZID=UTC:20200323T180000
DTEND;TZID=UTC:20200323T200000
DTSTAMP:20260422T115634
CREATED:20200312T224326Z
LAST-MODIFIED:20200412T224354Z
UID:3186-1584986400-1584993600@votewaynecountypagop.com
SUMMARY:WCCRW March Meeting-Meet The Candidate Night
DESCRIPTION:Join us for our Meet the Candidate Night.
URL:https://votewaynecountypagop.com/event/wccrw-march-meeting-meet-the-candidate-night/
LOCATION:Cordaro’s Restaurant Honesdale PA\, 186 Grandview Ave\, Honesdale\, PA\, 18431
CATEGORIES:Meet The Candidate Night,Monthly Meeting
ORGANIZER;CN="Wayne County Council of Republican Women":MAILTO:dmvanhorn@yahoo.com
END:VEVENT
END:VCALENDAR